BEGIN:VCALENDAR
VERSION:2.0
PRODID:-//Stockholmsmassan - ECPv6.15.18//NONSGML v1.0//EN
CALSCALE:GREGORIAN
METHOD:PUBLISH
X-WR-CALNAME:Stockholmsmassan
X-ORIGINAL-URL:https://stockholmsmassan.se/en/
X-WR-CALDESC:Events for Stockholmsmassan
REFRESH-INTERVAL;VALUE=DURATION:PT1H
X-Robots-Tag:noindex
X-PUBLISHED-TTL:PT1H
BEGIN:VTIMEZONE
TZID:Europe/Stockholm
BEGIN:DAYLIGHT
TZOFFSETFROM:+0100
TZOFFSETTO:+0200
TZNAME:CEST
DTSTART:20230326T010000
END:DAYLIGHT
BEGIN:STANDARD
TZOFFSETFROM:+0200
TZOFFSETTO:+0100
TZNAME:CET
DTSTART:20231029T010000
END:STANDARD
BEGIN:DAYLIGHT
TZOFFSETFROM:+0100
TZOFFSETTO:+0200
TZNAME:CEST
DTSTART:20240331T010000
END:DAYLIGHT
BEGIN:STANDARD
TZOFFSETFROM:+0200
TZOFFSETTO:+0100
TZNAME:CET
DTSTART:20241027T010000
END:STANDARD
BEGIN:DAYLIGHT
TZOFFSETFROM:+0100
TZOFFSETTO:+0200
TZNAME:CEST
DTSTART:20250330T010000
END:DAYLIGHT
BEGIN:STANDARD
TZOFFSETFROM:+0200
TZOFFSETTO:+0100
TZNAME:CET
DTSTART:20251026T010000
END:STANDARD
END:VTIMEZONE
BEGIN:VEVENT
DTSTART;TZID=Europe/Stockholm:20241206T010000
DTEND;TZID=Europe/Stockholm:20241208T235900
DTSTAMP:20260421T171856
CREATED:20240326T094311Z
LAST-MODIFIED:20240422T141434Z
UID:3317242-1733446800-1733702340@stockholmsmassan.se
SUMMARY:Fitnessfestivalen
DESCRIPTION:Welcome to the Fitnessfestival for those who love to train hard and see results. Here you can test new products\, watch thrilling competitions\, meet famous fitness professionals\, listen to free lectures and learn about the latest trends in the fitness world. Are you interested in topics such as strength training\, bodybuilding\, street workout\, OCR or martial arts? Then this is the right arena for you – see you on December 6-8!
URL:https://stockholmsmassan.se/en/calendar/fitnessfestivalen/
LOCATION:Stockholmsmässan
CATEGORIES:Health & Medicine
ATTACH;FMTTYPE=image/png:https://stockholmsmassan.se/wp-content/uploads/2024/04/Fitnessfestivalen_1920x1280.png
END:VEVENT
END:VCALENDAR