BEGIN:VCALENDAR
VERSION:2.0
PRODID:-//Stockholmsmassan - ECPv6.15.18//NONSGML v1.0//EN
CALSCALE:GREGORIAN
METHOD:PUBLISH
X-WR-CALNAME:Stockholmsmassan
X-ORIGINAL-URL:https://stockholmsmassan.se
X-WR-CALDESC:Händelser för Stockholmsmassan
REFRESH-INTERVAL;VALUE=DURATION:PT1H
X-Robots-Tag:noindex
X-PUBLISHED-TTL:PT1H
BEGIN:VTIMEZONE
TZID:Europe/Stockholm
BEGIN:DAYLIGHT
TZOFFSETFROM:+0100
TZOFFSETTO:+0200
TZNAME:CEST
DTSTART:20240331T010000
END:DAYLIGHT
BEGIN:STANDARD
TZOFFSETFROM:+0200
TZOFFSETTO:+0100
TZNAME:CET
DTSTART:20241027T010000
END:STANDARD
BEGIN:DAYLIGHT
TZOFFSETFROM:+0100
TZOFFSETTO:+0200
TZNAME:CEST
DTSTART:20250330T010000
END:DAYLIGHT
BEGIN:STANDARD
TZOFFSETFROM:+0200
TZOFFSETTO:+0100
TZNAME:CET
DTSTART:20251026T010000
END:STANDARD
BEGIN:DAYLIGHT
TZOFFSETFROM:+0100
TZOFFSETTO:+0200
TZNAME:CEST
DTSTART:20260329T010000
END:DAYLIGHT
BEGIN:STANDARD
TZOFFSETFROM:+0200
TZOFFSETTO:+0100
TZNAME:CET
DTSTART:20261025T010000
END:STANDARD
END:VTIMEZONE
BEGIN:VEVENT
DTSTART;TZID=Europe/Stockholm:20251204T010000
DTEND;TZID=Europe/Stockholm:20251204T235900
DTSTAMP:20260421T193920
CREATED:20250901T103043Z
LAST-MODIFIED:20251202T121131Z
UID:3401346-1764810000-1764892740@stockholmsmassan.se
SUMMARY:Datacenter Forum Stockholm
DESCRIPTION:Delta i det största mötet för den nordiska datacenter-communityn på Datacenter Forum Stockholm! Oavsett om du är operatör\, leverantör\, konsult eller slutanvändare får du chansen att fördjupa dig i de senaste trenderna\, innovationerna och möjligheterna som formar vår bransch. Förvänta dig inspirerande keynotes\, expertpresentationer och massor av nätverkande med branschkollegor och beslutsfattare. Missa inte evenemanget där kunskap\, idéer och nya kontakter driver framtidens digitala infrastruktur i Norden!
URL:https://stockholmsmassan.se/kalender/datacenter-forum-stockholm-2025/
LOCATION:Stockholmsmässan
CATEGORIES:IT,Övrigt
ATTACH;FMTTYPE=image/avif:https://stockholmsmassan.se/wp-content/uploads/2025/09/DCF-STO.avif
END:VEVENT
END:VCALENDAR