BEGIN:VCALENDAR
VERSION:2.0
PRODID:-//Stockholmsmassan - ECPv6.15.18//NONSGML v1.0//EN
CALSCALE:GREGORIAN
METHOD:PUBLISH
X-WR-CALNAME:Stockholmsmassan
X-ORIGINAL-URL:https://stockholmsmassan.se
X-WR-CALDESC:Händelser för Stockholmsmassan
REFRESH-INTERVAL;VALUE=DURATION:PT1H
X-Robots-Tag:noindex
X-PUBLISHED-TTL:PT1H
BEGIN:VTIMEZONE
TZID:Europe/Stockholm
BEGIN:DAYLIGHT
TZOFFSETFROM:+0100
TZOFFSETTO:+0200
TZNAME:CEST
DTSTART:20250330T010000
END:DAYLIGHT
BEGIN:STANDARD
TZOFFSETFROM:+0200
TZOFFSETTO:+0100
TZNAME:CET
DTSTART:20251026T010000
END:STANDARD
BEGIN:DAYLIGHT
TZOFFSETFROM:+0100
TZOFFSETTO:+0200
TZNAME:CEST
DTSTART:20260329T010000
END:DAYLIGHT
BEGIN:STANDARD
TZOFFSETFROM:+0200
TZOFFSETTO:+0100
TZNAME:CET
DTSTART:20261025T010000
END:STANDARD
BEGIN:DAYLIGHT
TZOFFSETFROM:+0100
TZOFFSETTO:+0200
TZNAME:CEST
DTSTART:20270328T010000
END:DAYLIGHT
BEGIN:STANDARD
TZOFFSETFROM:+0200
TZOFFSETTO:+0100
TZNAME:CET
DTSTART:20271031T010000
END:STANDARD
END:VTIMEZONE
BEGIN:VEVENT
DTSTART;TZID=Europe/Stockholm:20260312T010000
DTEND;TZID=Europe/Stockholm:20260312T235900
DTSTAMP:20260420T120131
CREATED:20241028T113206Z
LAST-MODIFIED:20250918T154745Z
UID:3364001-1773277200-1773359940@stockholmsmassan.se
SUMMARY:Grundläggningsdagen
DESCRIPTION:Grundläggningsdagen är en årlig branschdag som riktar sig till entreprenörer\, beställare\, konsulter\, myndigheter med flera inom grundläggningsområdet i vid bemärkelse.
URL:https://stockholmsmassan.se/kalender/grundlaggningsdagen-2026/
LOCATION:Stockholmsmässan
CATEGORIES:Övrigt
ATTACH;FMTTYPE=image/png:https://stockholmsmassan.se/wp-content/uploads/2025/09/Grudlaggningsdagen-2026_Stockholmsmassans-eventkalender.png
END:VEVENT
END:VCALENDAR