BEGIN:VCALENDAR
VERSION:2.0
PRODID:-//Stockholmsmassan - ECPv6.15.18//NONSGML v1.0//EN
CALSCALE:GREGORIAN
METHOD:PUBLISH
X-WR-CALNAME:Stockholmsmassan
X-ORIGINAL-URL:https://stockholmsmassan.se
X-WR-CALDESC:Händelser för Stockholmsmassan
REFRESH-INTERVAL;VALUE=DURATION:PT1H
X-Robots-Tag:noindex
X-PUBLISHED-TTL:PT1H
BEGIN:VTIMEZONE
TZID:Europe/Stockholm
BEGIN:DAYLIGHT
TZOFFSETFROM:+0100
TZOFFSETTO:+0200
TZNAME:CEST
DTSTART:20240331T010000
END:DAYLIGHT
BEGIN:STANDARD
TZOFFSETFROM:+0200
TZOFFSETTO:+0100
TZNAME:CET
DTSTART:20241027T010000
END:STANDARD
BEGIN:DAYLIGHT
TZOFFSETFROM:+0100
TZOFFSETTO:+0200
TZNAME:CEST
DTSTART:20250330T010000
END:DAYLIGHT
BEGIN:STANDARD
TZOFFSETFROM:+0200
TZOFFSETTO:+0100
TZNAME:CET
DTSTART:20251026T010000
END:STANDARD
BEGIN:DAYLIGHT
TZOFFSETFROM:+0100
TZOFFSETTO:+0200
TZNAME:CEST
DTSTART:20260329T010000
END:DAYLIGHT
BEGIN:STANDARD
TZOFFSETFROM:+0200
TZOFFSETTO:+0100
TZNAME:CET
DTSTART:20261025T010000
END:STANDARD
END:VTIMEZONE
BEGIN:VEVENT
DTSTART;TZID=Europe/Stockholm:20250506T010000
DTEND;TZID=Europe/Stockholm:20250508T005900
DTSTAMP:20260425T204449
CREATED:20240326T094311Z
LAST-MODIFIED:20250402T120308Z
UID:3313833-1746493200-1746665940@stockholmsmassan.se
SUMMARY:Train & Rail
DESCRIPTION:Nordens största mässa för hållbara järnvägstransporter! En mötesplats skapad av branschen – för branschen Train & är Nordens största mässa för järnvägsbranschen. Det gör mässan till en självklar mötesplats för alla som vill knyta kontakter\, nya affärer\, nätverka och ta del av de många initiativ som tas för att stärka den nordiska järnvägens konkurrenskraft. Train & Rail arrangerades för första gången våren 2023 och tog emot över 3000 besökare och 150 utställare. I maj 2025 är det dags igen! Här får besökarna ta del av de senaste produkterna\, tjänsterna och lösningarna som till exempel Spårburna fordon för gods och passagerartrafik\, Spårbunden transport för kollektivtrafik\, regional trafik\, långväga och Internationell trafik\, Signalsystem/Trafikledningssystem\, Biljettsystem och mycket mer.
URL:https://stockholmsmassan.se/kalender/train-rail-2025/
LOCATION:Stockholmsmässan
CATEGORIES:Industri
ATTACH;FMTTYPE=image/jpeg:https://stockholmsmassan.se/wp-content/uploads/2024/11/TR-Logga-1920x850_Monika-Johannesen.jpg
END:VEVENT
END:VCALENDAR